BEGIN:VCALENDAR
VERSION:2.0
PRODID:-//Bienvenue sur le site du PS Région de Cossonay ! - ECPv6.15.20//NONSGML v1.0//EN
CALSCALE:GREGORIAN
METHOD:PUBLISH
X-ORIGINAL-URL:https://ps-cossonay.ch
X-WR-CALDESC:Évènements pour Bienvenue sur le site du PS Région de Cossonay !
REFRESH-INTERVAL;VALUE=DURATION:PT1H
X-Robots-Tag:noindex
X-PUBLISHED-TTL:PT1H
BEGIN:VTIMEZONE
TZID:Europe/Zurich
BEGIN:DAYLIGHT
TZOFFSETFROM:+0100
TZOFFSETTO:+0200
TZNAME:CEST
DTSTART:20250330T010000
END:DAYLIGHT
BEGIN:STANDARD
TZOFFSETFROM:+0200
TZOFFSETTO:+0100
TZNAME:CET
DTSTART:20251026T010000
END:STANDARD
BEGIN:DAYLIGHT
TZOFFSETFROM:+0100
TZOFFSETTO:+0200
TZNAME:CEST
DTSTART:20260329T010000
END:DAYLIGHT
BEGIN:STANDARD
TZOFFSETFROM:+0200
TZOFFSETTO:+0100
TZNAME:CET
DTSTART:20261025T010000
END:STANDARD
BEGIN:DAYLIGHT
TZOFFSETFROM:+0100
TZOFFSETTO:+0200
TZNAME:CEST
DTSTART:20270328T010000
END:DAYLIGHT
BEGIN:STANDARD
TZOFFSETFROM:+0200
TZOFFSETTO:+0100
TZNAME:CET
DTSTART:20271031T010000
END:STANDARD
END:VTIMEZONE
BEGIN:VEVENT
DTSTART;VALUE=DATE:20260207
DTEND;VALUE=DATE:20260208
DTSTAMP:20260421T130701
CREATED:20260129T115849Z
LAST-MODIFIED:20260129T134011Z
UID:29951-1770422400-1770508799@ps-cossonay.ch
SUMMARY:Stand à Cossonay
DESCRIPTION:En vue des votations et des élections du 8 mars 2026\, notre section participe au stand organisé par le mouvement EPLO\, de 9h00 à 12h00 devant la Migros de Cossonay.
URL:https://ps-cossonay.ch/evenement/stand-a-cossonay-3/
END:VEVENT
BEGIN:VEVENT
DTSTART;VALUE=DATE:20260225
DTEND;VALUE=DATE:20260226
DTSTAMP:20260421T130701
CREATED:20260213T161120Z
LAST-MODIFIED:20260213T161347Z
UID:29979-1771977600-1772063999@ps-cossonay.ch
SUMMARY:Coordination des sections
DESCRIPTION:En ligne\, dès 19h00
URL:https://ps-cossonay.ch/evenement/coordination-des-sections/
END:VEVENT
BEGIN:VEVENT
DTSTART;VALUE=DATE:20260228
DTEND;VALUE=DATE:20260301
DTSTAMP:20260421T130701
CREATED:20250921T173953Z
LAST-MODIFIED:20250921T174159Z
UID:29820-1772236800-1772323199@ps-cossonay.ch
SUMMARY:Congrès du PSS à Bienne
DESCRIPTION:Lien sur l’événement : https://www.sp-ps.ch/fr/agenda/bienne2026/
URL:https://ps-cossonay.ch/evenement/congres-du-pss-a-bienne/
END:VEVENT
END:VCALENDAR