BEGIN:VCALENDAR
VERSION:2.0
PRODID:-//Bienvenue sur le site du PS Région de Cossonay ! - ECPv6.15.20//NONSGML v1.0//EN
CALSCALE:GREGORIAN
METHOD:PUBLISH
X-WR-CALNAME:Bienvenue sur le site du PS Région de Cossonay !
X-ORIGINAL-URL:https://ps-cossonay.ch
X-WR-CALDESC:Évènements pour Bienvenue sur le site du PS Région de Cossonay !
REFRESH-INTERVAL;VALUE=DURATION:PT1H
X-Robots-Tag:noindex
X-PUBLISHED-TTL:PT1H
BEGIN:VTIMEZONE
TZID:Europe/Zurich
BEGIN:DAYLIGHT
TZOFFSETFROM:+0100
TZOFFSETTO:+0200
TZNAME:CEST
DTSTART:20240331T010000
END:DAYLIGHT
BEGIN:STANDARD
TZOFFSETFROM:+0200
TZOFFSETTO:+0100
TZNAME:CET
DTSTART:20241027T010000
END:STANDARD
BEGIN:DAYLIGHT
TZOFFSETFROM:+0100
TZOFFSETTO:+0200
TZNAME:CEST
DTSTART:20250330T010000
END:DAYLIGHT
BEGIN:STANDARD
TZOFFSETFROM:+0200
TZOFFSETTO:+0100
TZNAME:CET
DTSTART:20251026T010000
END:STANDARD
BEGIN:DAYLIGHT
TZOFFSETFROM:+0100
TZOFFSETTO:+0200
TZNAME:CEST
DTSTART:20260329T010000
END:DAYLIGHT
BEGIN:STANDARD
TZOFFSETFROM:+0200
TZOFFSETTO:+0100
TZNAME:CET
DTSTART:20261025T010000
END:STANDARD
END:VTIMEZONE
BEGIN:VEVENT
DTSTART;VALUE=DATE:20250906
DTEND;VALUE=DATE:20250907
DTSTAMP:20260421T215552
CREATED:20250725T184029Z
LAST-MODIFIED:20250725T184029Z
UID:29767-1757116800-1757203199@ps-cossonay.ch
SUMMARY:Stand à Cossonay
DESCRIPTION:En vue des votations du 28 septembre 2025\, la section organise un stand à côté de la Migros de Cossonay\, de 9h00 à midi. \nVous pourrez y signer l’initiative fédérale sur les loyers (Oui à la protection contre les loyers abusifs)\, ainsi que l’initiative cantonale lancée récemment par le PSV\, aussi pour la protection des locataires (Stop à l’expulsion des locataires et à l’explosion des loyers après travaux). \nNous comptons sur votre participation\, même un petit moment. Et si vous ne vous sentez pas tout à fait à l’aise avec les sujets de votations et initiatives du jour\, nous vous mettrons au courant. \nMerci de vous inscrire sur ce lien : https://framadate.org/y1P5tZ9GcQWubqWl
URL:https://ps-cossonay.ch/evenement/stand-a-cossonay/
END:VEVENT
BEGIN:VEVENT
DTSTART;VALUE=DATE:20250927
DTEND;VALUE=DATE:20250928
DTSTAMP:20260421T215552
CREATED:20250921T143154Z
LAST-MODIFIED:20250921T174306Z
UID:29802-1758931200-1759017599@ps-cossonay.ch
SUMMARY:Repas de la Rose
DESCRIPTION:Le désormais traditionnel Repas de la Rose aura lieu dès 17h30 (repas dès 19h) à la Salle communale de Nyon le 27 septembre prochain.\nLe billet d’entrée donne accès à un repas avec entrée-plat-dessert (boissons en sus) et surtout à des animations inoubliables et pleines de surprises. \nN’hésitez pas à venir avec vos proches; il n’est pas nécessaire d’être membre du parti.\nPour rappel\, il ne s’agit pas d’un évènement formel\, mais d’une soirée conviviale\, drôle et récréative entre camarades ! \nLien sur l’événement : https://ps-vd.ch/agenda/repas-de-la-rose-2025/
URL:https://ps-cossonay.ch/evenement/repas-de-la-rose/
END:VEVENT
END:VCALENDAR