BEGIN:VCALENDAR
VERSION:2.0
PRODID:-//Bienvenue sur le site du PS Région de Cossonay ! - ECPv6.15.20//NONSGML v1.0//EN
CALSCALE:GREGORIAN
METHOD:PUBLISH
X-WR-CALNAME:Bienvenue sur le site du PS Région de Cossonay !
X-ORIGINAL-URL:https://ps-cossonay.ch
X-WR-CALDESC:Évènements pour Bienvenue sur le site du PS Région de Cossonay !
REFRESH-INTERVAL;VALUE=DURATION:PT1H
X-Robots-Tag:noindex
X-PUBLISHED-TTL:PT1H
BEGIN:VTIMEZONE
TZID:Europe/Zurich
BEGIN:DAYLIGHT
TZOFFSETFROM:+0100
TZOFFSETTO:+0200
TZNAME:CEST
DTSTART:20240331T010000
END:DAYLIGHT
BEGIN:STANDARD
TZOFFSETFROM:+0200
TZOFFSETTO:+0100
TZNAME:CET
DTSTART:20241027T010000
END:STANDARD
BEGIN:DAYLIGHT
TZOFFSETFROM:+0100
TZOFFSETTO:+0200
TZNAME:CEST
DTSTART:20250330T010000
END:DAYLIGHT
BEGIN:STANDARD
TZOFFSETFROM:+0200
TZOFFSETTO:+0100
TZNAME:CET
DTSTART:20251026T010000
END:STANDARD
BEGIN:DAYLIGHT
TZOFFSETFROM:+0100
TZOFFSETTO:+0200
TZNAME:CEST
DTSTART:20260329T010000
END:DAYLIGHT
BEGIN:STANDARD
TZOFFSETFROM:+0200
TZOFFSETTO:+0100
TZNAME:CET
DTSTART:20261025T010000
END:STANDARD
END:VTIMEZONE
BEGIN:VEVENT
DTSTART;VALUE=DATE:20251025
DTEND;VALUE=DATE:20251026
DTSTAMP:20260421T215439
CREATED:20250921T163541Z
LAST-MODIFIED:20250921T163541Z
UID:29817-1761350400-1761436799@ps-cossonay.ch
SUMMARY:Congrès du PSS à Sursee
DESCRIPTION:Lien sur l’événement : https://www.sp-ps.ch/fr/agenda/sursee2025/
URL:https://ps-cossonay.ch/evenement/congres-du-pss-a-sursee/
END:VEVENT
END:VCALENDAR